BEGIN:VCALENDAR
VERSION:2.0
PRODID:-//River Roll: The Best Roller Skating Rink in Kansas City! - ECPv6.15.20//NONSGML v1.0//EN
CALSCALE:GREGORIAN
METHOD:PUBLISH
X-WR-CALNAME:River Roll: The Best Roller Skating Rink in Kansas City!
X-ORIGINAL-URL:https://www.riverroll.com
X-WR-CALDESC:Events for River Roll: The Best Roller Skating Rink in Kansas City!
REFRESH-INTERVAL;VALUE=DURATION:PT1H
X-Robots-Tag:noindex
X-PUBLISHED-TTL:PT1H
BEGIN:VTIMEZONE
TZID:America/Chicago
BEGIN:DAYLIGHT
TZOFFSETFROM:-0600
TZOFFSETTO:-0500
TZNAME:CST
DTSTART:20250309T080000
END:DAYLIGHT
BEGIN:STANDARD
TZOFFSETFROM:-0500
TZOFFSETTO:-0600
TZNAME:CST
DTSTART:20251102T070000
END:STANDARD
BEGIN:DAYLIGHT
TZOFFSETFROM:-0600
TZOFFSETTO:-0500
TZNAME:CST
DTSTART:20260308T080000
END:DAYLIGHT
BEGIN:STANDARD
TZOFFSETFROM:-0500
TZOFFSETTO:-0600
TZNAME:CST
DTSTART:20261101T070000
END:STANDARD
BEGIN:DAYLIGHT
TZOFFSETFROM:-0600
TZOFFSETTO:-0500
TZNAME:CST
DTSTART:20270314T080000
END:DAYLIGHT
BEGIN:STANDARD
TZOFFSETFROM:-0500
TZOFFSETTO:-0600
TZNAME:CST
DTSTART:20271107T070000
END:STANDARD
END:VTIMEZONE
BEGIN:VEVENT
DTSTART;TZID=America/Chicago:20260501T173000
DTEND;TZID=America/Chicago:20260501T193000
DTSTAMP:20260423T011932
CREATED:20251220T163612Z
LAST-MODIFIED:20260130T123835Z
UID:10007837-1777656600-1777663800@www.riverroll.com
SUMMARY:Southeast Skate Night
DESCRIPTION:🎉 Southeast Skate Night! 🛼🎶 \nJoin us for a fun-filled night of skating at River Roll Skate Center on March 6th from 5:30-7:30 PM! \n🌟 Admission: $6🌟 Skate Rental: $3 \nBring your friends and family for an evening of music\, laughter\, and great memories on wheels! Don’t miss out on this exciting event—see you on the rink! 🎶🛼✨ \n#SoutheaastElementary #SkateNight #RiverRollSkateCenter #FunOnWheels
URL:https://www.riverroll.com/event/southeast-skate-night-3/2026-05-01/
LOCATION:River Roll Skate Center\, 4720 NW Gateway Ave\, Riverside\, MO\, 64150\, United States
CATEGORIES:School Party
ATTACH;FMTTYPE=image/jpeg:https://www.riverroll.com/wp-content/uploads/2025/02/River-Roll-Pic-72-scaled.jpg
ORGANIZER;CN="River Roll":MAILTO:sales@riverroll.com
END:VEVENT
END:VCALENDAR