BEGIN:VCALENDAR
VERSION:2.0
PRODID:-//River Roll: The Best Roller Skating Rink in Kansas City! - ECPv6.15.20//NONSGML v1.0//EN
CALSCALE:GREGORIAN
METHOD:PUBLISH
X-WR-CALNAME:River Roll: The Best Roller Skating Rink in Kansas City!
X-ORIGINAL-URL:https://www.riverroll.com
X-WR-CALDESC:Events for River Roll: The Best Roller Skating Rink in Kansas City!
REFRESH-INTERVAL;VALUE=DURATION:PT1H
X-Robots-Tag:noindex
X-PUBLISHED-TTL:PT1H
BEGIN:VTIMEZONE
TZID:America/Chicago
BEGIN:DAYLIGHT
TZOFFSETFROM:-0600
TZOFFSETTO:-0500
TZNAME:CST
DTSTART:20250309T080000
END:DAYLIGHT
BEGIN:STANDARD
TZOFFSETFROM:-0500
TZOFFSETTO:-0600
TZNAME:CST
DTSTART:20251102T070000
END:STANDARD
BEGIN:DAYLIGHT
TZOFFSETFROM:-0600
TZOFFSETTO:-0500
TZNAME:CST
DTSTART:20260308T080000
END:DAYLIGHT
BEGIN:STANDARD
TZOFFSETFROM:-0500
TZOFFSETTO:-0600
TZNAME:CST
DTSTART:20261101T070000
END:STANDARD
BEGIN:DAYLIGHT
TZOFFSETFROM:-0600
TZOFFSETTO:-0500
TZNAME:CST
DTSTART:20270314T080000
END:DAYLIGHT
BEGIN:STANDARD
TZOFFSETFROM:-0500
TZOFFSETTO:-0600
TZNAME:CST
DTSTART:20271107T070000
END:STANDARD
END:VTIMEZONE
BEGIN:VEVENT
DTSTART;TZID=America/Chicago:20260410T173000
DTEND;TZID=America/Chicago:20260410T193000
DTSTAMP:20260423T044556
CREATED:20260130T123245Z
LAST-MODIFIED:20260410T122436Z
UID:9857-1775842200-1775849400@www.riverroll.com
SUMMARY:Southeast Skate Night
DESCRIPTION:🛼 Southeast Elementary Skate Night! 🎉 \nJoin us for a fun night on wheels Friday\, April 10 5:30–7:30pm!📍 River Roll Skate Center \n💲 Admission: $6🛼 Skate Rental: $3 \nBest part? 🙌 A portion of the proceeds goes right back to the Southeast PTA!Bring your friends\, bring your family\, and let’s roll for a great cause! 💜
URL:https://www.riverroll.com/event/southeast-skate-night/
LOCATION:River Roll Skate Center\, 4720 NW Gateway Ave\, Riverside\, MO\, 64150\, United States
CATEGORIES:School Party
ATTACH;FMTTYPE=image/jpeg:https://www.riverroll.com/wp-content/uploads/2026/01/SE-april.jpg
ORGANIZER;CN="River Roll":MAILTO:sales@riverroll.com
END:VEVENT
END:VCALENDAR